BEGIN:VCALENDAR
VERSION:2.0
PRODID:-//Strong Coffey - ECPv6.15.17.1//NONSGML v1.0//EN
CALSCALE:GREGORIAN
METHOD:PUBLISH
X-WR-CALNAME:Strong Coffey
X-ORIGINAL-URL:https://principles.strongcoffey.com
X-WR-CALDESC:Events for Strong Coffey
REFRESH-INTERVAL;VALUE=DURATION:PT1H
X-Robots-Tag:noindex
X-PUBLISHED-TTL:PT1H
BEGIN:VTIMEZONE
TZID:UTC
BEGIN:STANDARD
TZOFFSETFROM:+0000
TZOFFSETTO:+0000
TZNAME:UTC
DTSTART:20130101T000000
END:STANDARD
END:VTIMEZONE
BEGIN:VEVENT
DTSTART;TZID=UTC:20150127T200000
DTEND;TZID=UTC:20150127T210000
DTSTAMP:20260422T045934
CREATED:20150825T025241Z
LAST-MODIFIED:20200101T031457Z
UID:4667-1422388800-1422392400@principles.strongcoffey.com
SUMMARY:Pleasure Principles Q&A
DESCRIPTION:
URL:https://principles.strongcoffey.com/event/012715a-pp-qa/
CATEGORIES:Pleasure Principles Q&A
END:VEVENT
BEGIN:VEVENT
DTSTART;TZID=UTC:20150127T200000
DTEND;TZID=UTC:20150127T210000
DTSTAMP:20260422T045934
CREATED:20150825T025036Z
LAST-MODIFIED:20200101T031504Z
UID:4666-1422388800-1422392400@principles.strongcoffey.com
SUMMARY:Pleasure Principles Q&A
DESCRIPTION:
URL:https://principles.strongcoffey.com/event/012715b-pp-qa/
CATEGORIES:Pleasure Principles Q&A
END:VEVENT
BEGIN:VEVENT
DTSTART;TZID=UTC:20150120T200000
DTEND;TZID=UTC:20150120T210000
DTSTAMP:20260422T045934
CREATED:20150825T024842Z
LAST-MODIFIED:20200101T031509Z
UID:4665-1421784000-1421787600@principles.strongcoffey.com
SUMMARY:Pleasure Principles Q&A
DESCRIPTION:
URL:https://principles.strongcoffey.com/event/012015b-pp-qa/
CATEGORIES:Pleasure Principles Q&A
END:VEVENT
BEGIN:VEVENT
DTSTART;TZID=UTC:20150113T200000
DTEND;TZID=UTC:20150113T210000
DTSTAMP:20260422T045934
CREATED:20150824T235129Z
LAST-MODIFIED:20200101T031514Z
UID:4664-1421179200-1421182800@principles.strongcoffey.com
SUMMARY:Pleasure Principles Q&A
DESCRIPTION:
URL:https://principles.strongcoffey.com/event/011315a-pp-qa/
CATEGORIES:Pleasure Principles Q&A
END:VEVENT
BEGIN:VEVENT
DTSTART;TZID=UTC:20150113T200000
DTEND;TZID=UTC:20150113T210000
DTSTAMP:20260422T045934
CREATED:20150824T234930Z
LAST-MODIFIED:20200101T031520Z
UID:4663-1421179200-1421182800@principles.strongcoffey.com
SUMMARY:Pleasure Principles Q&A
DESCRIPTION:
URL:https://principles.strongcoffey.com/event/011315-pp-qa/
CATEGORIES:Pleasure Principles Q&A
END:VEVENT
BEGIN:VEVENT
DTSTART;TZID=UTC:20150106T200000
DTEND;TZID=UTC:20150106T210000
DTSTAMP:20260422T045934
CREATED:20150824T232839Z
LAST-MODIFIED:20200101T031527Z
UID:4662-1420574400-1420578000@principles.strongcoffey.com
SUMMARY:Pleasure Principles Q&A
DESCRIPTION:
URL:https://principles.strongcoffey.com/event/010615-pp-qa/
CATEGORIES:Pleasure Principles Q&A
END:VEVENT
BEGIN:VEVENT
DTSTART;TZID=UTC:20141101T200000
DTEND;TZID=UTC:20141101T210000
DTSTAMP:20260422T045934
CREATED:20150826T225052Z
LAST-MODIFIED:20200101T031630Z
UID:4716-1414872000-1414875600@principles.strongcoffey.com
SUMMARY:Pleasure Principles Q&A
DESCRIPTION:
URL:https://principles.strongcoffey.com/event/111014-pp-qa/
CATEGORIES:Pleasure Principles Q&A
END:VEVENT
BEGIN:VEVENT
DTSTART;TZID=UTC:20141024T200000
DTEND;TZID=UTC:20141024T210000
DTSTAMP:20260422T045934
CREATED:20150827T011511Z
LAST-MODIFIED:20200101T031636Z
UID:4718-1414180800-1414184400@principles.strongcoffey.com
SUMMARY:Pleasure Principles Q&A
DESCRIPTION:
URL:https://principles.strongcoffey.com/event/102414-pp-qa/
CATEGORIES:Pleasure Principles Q&A
END:VEVENT
BEGIN:VEVENT
DTSTART;TZID=UTC:20141021T200000
DTEND;TZID=UTC:20141021T210000
DTSTAMP:20260422T045934
CREATED:20150826T224247Z
LAST-MODIFIED:20200101T031642Z
UID:4714-1413921600-1413925200@principles.strongcoffey.com
SUMMARY:Pleasure Principles Q&A
DESCRIPTION:
URL:https://principles.strongcoffey.com/event/102114-pp-qa/
CATEGORIES:Pleasure Principles Q&A
END:VEVENT
BEGIN:VEVENT
DTSTART;TZID=UTC:20141014T200000
DTEND;TZID=UTC:20141014T210000
DTSTAMP:20260422T045934
CREATED:20150824T232330Z
LAST-MODIFIED:20200101T031650Z
UID:4660-1413316800-1413320400@principles.strongcoffey.com
SUMMARY:Pleasure Principles Q&A
DESCRIPTION:
URL:https://principles.strongcoffey.com/event/101415-pp-qa/
CATEGORIES:Pleasure Principles Q&A
END:VEVENT
BEGIN:VEVENT
DTSTART;TZID=UTC:20141011T200000
DTEND;TZID=UTC:20141011T220000
DTSTAMP:20260422T045934
CREATED:20150824T225618Z
LAST-MODIFIED:20200101T031656Z
UID:4657-1413057600-1413064800@principles.strongcoffey.com
SUMMARY:Pleasure Principles Q&A
DESCRIPTION:
URL:https://principles.strongcoffey.com/event/101114-pp-qa/
CATEGORIES:Pleasure Principles Q&A
END:VEVENT
BEGIN:VEVENT
DTSTART;TZID=UTC:20141007T203000
DTEND;TZID=UTC:20141007T213000
DTSTAMP:20260422T045934
CREATED:20150824T224525Z
LAST-MODIFIED:20200101T031702Z
UID:4654-1412713800-1412717400@principles.strongcoffey.com
SUMMARY:Pleasure Principles Q&A
DESCRIPTION:
URL:https://principles.strongcoffey.com/event/100714-pp-qa/
CATEGORIES:Pleasure Principles Q&A
END:VEVENT
BEGIN:VEVENT
DTSTART;TZID=UTC:20140708T130000
DTEND;TZID=UTC:20140708T140000
DTSTAMP:20260422T045934
CREATED:20150824T222607Z
LAST-MODIFIED:20200101T030034Z
UID:4652-1404824400-1404828000@principles.strongcoffey.com
SUMMARY:Pleasure Principles Q&A
DESCRIPTION:
URL:https://principles.strongcoffey.com/event/070814-pp-qa/
CATEGORIES:Pleasure Principles Q&A
END:VEVENT
END:VCALENDAR